BEGIN:VCALENDAR
VERSION:2.0
PRODID:-//Abbet - ECPv6.15.20//NONSGML v1.0//EN
CALSCALE:GREGORIAN
METHOD:PUBLISH
X-WR-CALNAME:Abbet
X-ORIGINAL-URL:https://abbet.be/nl
X-WR-CALDESC:Events voor Abbet
REFRESH-INTERVAL;VALUE=DURATION:PT1H
X-Robots-Tag:noindex
X-PUBLISHED-TTL:PT1H
BEGIN:VTIMEZONE
TZID:Europe/Brussels
BEGIN:DAYLIGHT
TZOFFSETFROM:+0100
TZOFFSETTO:+0200
TZNAME:CEST
DTSTART:20240331T010000
END:DAYLIGHT
BEGIN:STANDARD
TZOFFSETFROM:+0200
TZOFFSETTO:+0100
TZNAME:CET
DTSTART:20241027T010000
END:STANDARD
BEGIN:DAYLIGHT
TZOFFSETFROM:+0100
TZOFFSETTO:+0200
TZNAME:CEST
DTSTART:20250330T010000
END:DAYLIGHT
BEGIN:STANDARD
TZOFFSETFROM:+0200
TZOFFSETTO:+0100
TZNAME:CET
DTSTART:20251026T010000
END:STANDARD
BEGIN:DAYLIGHT
TZOFFSETFROM:+0100
TZOFFSETTO:+0200
TZNAME:CEST
DTSTART:20260329T010000
END:DAYLIGHT
BEGIN:STANDARD
TZOFFSETFROM:+0200
TZOFFSETTO:+0100
TZNAME:CET
DTSTART:20261025T010000
END:STANDARD
END:VTIMEZONE
BEGIN:VEVENT
DTSTART;TZID=Europe/Brussels:20251105T090000
DTEND;TZID=Europe/Brussels:20251105T113000
DTSTAMP:20260421T013013
CREATED:20250929T134352Z
LAST-MODIFIED:20251020T074951Z
UID:14441-1762333200-1762342200@abbet.be
SUMMARY:Petit-Déjeuner Bien-Être : Présentation des jeux de l'ABBET
DESCRIPTION:L’ABBET a le plaisir de vous inviter à un moment convivial et ludique autour du bien-être au travail durant laquelle l’équipe vous présentera des outils\, vidéos et autres exclusivités ! \nAutour d’un petit-déjeuner convivial\, venez découvrir et tester en avant-première nos nouveaux outils pédagogiques : un jeu-panneau à afficher dans vos locaux\,  un jeu Risk-ô-Job que vous aurez l’opportunité de tester avec nous\, un quiz interactif\, et nos nouvelles vidéos YouTube dédiées au bien-être au travail. \n  \nPrévenir les risques n’a jamais été aussi amusant \nCela fait plus de deux ans que l’ABBET travaille d’arrache-pied sur la création d’une série d’outils adaptés à vos réalités de terrain. Venez les découvrir ! \nVous avez envie de remettre le bien-être au travail au sein des discussions dans votre équipe de manière ludique ? Embarquez avec nous : petit-déjeuner\, démonstrations\, explications\, accompagnement\, jeux\, on s’occupe de tout ! \nAu programme : \n📺 des capsules vidéo\n❓ un quiz interactif\n🖼️ un jeu-panneau à afficher dans vos locaux\n🎲 le jeu Risk-ô-Job\, moment fort de cette matinée : vous serez invité·es à participer à une session de jeu en petits groupes\, animée par des membres de l’ABBET. \nCe jeu-outil a été conçu pour sensibiliser et initier les équipes à une démarche collective de détection et de prévention des risques au travail\, tout en valorisant les compétences de chacun·e dans ce processus. \nÀ travers des situations concrètes et des échanges guidés\, ce jeu permet aux participant·es : \n🗣️ d’ouvrir un espace d’échange sur leurs conditions de travail ;\n👀 de développer un regard critique et vigilant sur le bien-être au travail ;\n🧩 d’identifier les leviers d’action possibles pour améliorer les situations. \nCe moment ludique et formateur se veut participatif\, concret et fédérateur : une belle occasion d’apprendre ensemble et échanger\, tout en partageant un moment chaleureux. \n  \nLe petit plus ? Vous repartirez avec ces outils gratuitement pour les utiliser à votre tour ! \n👉 Alors\, intéressé·e ? Inscrivez-vous (avant le 31/10/25) via le lien ci-dessous. \n  \nInfos pratiques : \n📅 Mercredi 05/11/25\n🕗 9h-9h30 : accueil et petit-déjeuner / 9h30 : introduction et début de la rencontre\n📍 15 Square Sainctelette\, 1000 Bruxelles (ABBET) \n  \nLes inscriptions sont clôturées.
URL:https://abbet.be/nl/event/petit-dejeuner-bien-etre-presentation-des-jeux-de-labbet/
LOCATION:Abbet\, Square Sainctelette 13-15\, Bruxelles\, Bruxelles Capitale\, 1000\, Belgique
ATTACH;FMTTYPE=image/jpeg:https://abbet.be/wp-content/uploads/2025/10/et-si-on-jouait-au-boulot-e1764607049305.jpg
ORGANIZER;CN="Abbet ASBL":MAILTO:info@abbet.be
END:VEVENT
BEGIN:VEVENT
DTSTART;TZID=Europe/Brussels:20251113T093000
DTEND;TZID=Europe/Brussels:20251113T163000
DTSTAMP:20260421T013014
CREATED:20250929T132913Z
LAST-MODIFIED:20251113T131821Z
UID:14428-1763026200-1763051400@abbet.be
SUMMARY:Formation : Le nettoyage et les produits d’entretien (complet/liste d'attente)
DESCRIPTION:Programme :\n\n\nModule 1 : La sécurité au travail\n– La loi du bien-être au travail (identifier les dangers et risques\, bien choisir les mesures préventives)\n– Risques spécifiques : les trébuchements et glissades\, le travail en hauteur\n– Les voies d’exposition aux produits dangereux et les équipements de protection\n– Les consignes en cas d’urgence (accident\, incendie…)\n\nModule 2 : Les produits\n– Le nettoyage : facteurs de nettoyage\, catégories de salissures\, familles de produits\n– Les produits dangereux (notions de pH\, pictogrammes et symboles de danger\, déchiffrer les étiquettes)\n– Le dosage des produits et l’impact sur le nettoyage et la santé\n– Le stockage des produits dangereux\n\nModule 3 : Le processus de nettoyage\n– Les produits d’entretien (produits de substitution\,produits professionnels et commerciaux)\n– Le matériel et les équipements de nettoyage(choix\, utilisation\, entretien)\n– Le processus de nettoyage\n– Les types de sols et leur entretien\n\n\n\nObjectifs :\n– Identifier les risques liés à l’activité de nettoyage\n– Proposer et mettre en place des mesures préventives adéquates en cas de risque identifié\n– Comprendre les dangers que présentent les produits d’entretien et savoir se protéger\n– Savoir exploiter les renseignements disponibles sur une étiquette de produit d’entretien\n– Utiliser du matériel et des méthodes de travail de manière à limiter les risques de troubles musculosquelettiques\n\n\n\nInscriptions via Form’Action (la formation est complète\, mais vous pouvez vous inscrire à la liste d’attente)
URL:https://abbet.be/nl/event/formation-le-nettoyage-et-les-produits-dentretien/
ATTACH;FMTTYPE=image/jpeg:https://abbet.be/wp-content/uploads/2025/09/produits-nettoyage.jpg
END:VEVENT
BEGIN:VEVENT
DTSTART;TZID=Europe/Brussels:20251120T093000
DTEND;TZID=Europe/Brussels:20251120T163000
DTSTAMP:20260421T013014
CREATED:20250929T133511Z
LAST-MODIFIED:20250929T133745Z
UID:14434-1763631000-1763656200@abbet.be
SUMMARY:Formation : Sensibilisation à la manutention (complet/liste d'attente)
DESCRIPTION:Objectifs :\n• Connaître et bien identifier les zones sensibles de l’appareil musculosquelettique\n• Comprendre les effets néfastes des mauvaises postures sur notre corps et surtout sur notre dos\n• Intégrer les bonnes postures à adopter au travail\n• Intégrer les principes de la manutention prudente dans son quotidien\n• Des astuces pour se relaxer (sans frais) après le travail\n\n\nProgramme :\nCette formation s’adresse aux personnes confrontées régulièrement à des postures à risque et au port de charges lors de son travail au quotidien (personnel de nettoyage\, d’entretien de bâtiments\, etc).\nAttention\, il ne s’agit aucunement d’une formation de manutention de personnes.- Anatomie humaine : comment fonctionne notre corps ?\n– Pathologies – quand le corps se déglingue : troubles musculosquelettiques et facteurs de risque\n– Manutention prudente : port de charges\, principes de manutention prudente\, trucs et astuces\n– Se faire du bien : détente \n\n\n\n\nInscription via Form’Action (la formation est complète\, mais vous pouvez vous inscrire à la liste d’attente)
URL:https://abbet.be/nl/event/formation-sensibilisation-a-la-manutention-complet-liste-dattente/
LOCATION:Abbet\, Square Sainctelette 13-15\, Bruxelles\, Bruxelles Capitale\, 1000\, Belgique
ORGANIZER;CN="Abbet ASBL":MAILTO:info@abbet.be
END:VEVENT
END:VCALENDAR