BEGIN:VCALENDAR
VERSION:2.0
PRODID:-//Abbet - ECPv6.15.20//NONSGML v1.0//EN
CALSCALE:GREGORIAN
METHOD:PUBLISH
X-WR-CALNAME:Abbet
X-ORIGINAL-URL:https://abbet.be/nl
X-WR-CALDESC:Events voor Abbet
REFRESH-INTERVAL;VALUE=DURATION:PT1H
X-Robots-Tag:noindex
X-PUBLISHED-TTL:PT1H
BEGIN:VTIMEZONE
TZID:Europe/Brussels
BEGIN:DAYLIGHT
TZOFFSETFROM:+0100
TZOFFSETTO:+0200
TZNAME:CEST
DTSTART:20240331T010000
END:DAYLIGHT
BEGIN:STANDARD
TZOFFSETFROM:+0200
TZOFFSETTO:+0100
TZNAME:CET
DTSTART:20241027T010000
END:STANDARD
BEGIN:DAYLIGHT
TZOFFSETFROM:+0100
TZOFFSETTO:+0200
TZNAME:CEST
DTSTART:20250330T010000
END:DAYLIGHT
BEGIN:STANDARD
TZOFFSETFROM:+0200
TZOFFSETTO:+0100
TZNAME:CET
DTSTART:20251026T010000
END:STANDARD
BEGIN:DAYLIGHT
TZOFFSETFROM:+0100
TZOFFSETTO:+0200
TZNAME:CEST
DTSTART:20260329T010000
END:DAYLIGHT
BEGIN:STANDARD
TZOFFSETFROM:+0200
TZOFFSETTO:+0100
TZNAME:CET
DTSTART:20261025T010000
END:STANDARD
END:VTIMEZONE
BEGIN:VEVENT
DTSTART;TZID=Europe/Brussels:20250924T093000
DTEND;TZID=Europe/Brussels:20250924T123000
DTSTAMP:20260421T043355
CREATED:20250812T091741Z
LAST-MODIFIED:20250908T133000Z
UID:14110-1758706200-1758717000@abbet.be
SUMMARY:Cycle d'intervisions pour personnes de confiance
DESCRIPTION:L’objectif :   \nLa personne de confiance joue un rôle clé dans la prévention des risques psychosociaux et peut représenter un véritable appui pour les travailleur.euses. Cependant\, la personne de confiance peut elle-même manquer d’accompagnement et de ressources pour faire face aux situations qu’elle rencontre. Il s’agit en effet d’une fonction souvent isolée\, soulevant de nombreuses interrogations : quelles sont ses limites ? de quel soutien peut-elle bénéficier ? comment agir dans certaines situations relationnelles complexes ? etc.   \nL’intervision permet avant tout aux personnes de confiance de briser “la solitude” du métier pour questionner\, prendre du recul et échanger avec des pairs sur leur pratique et difficultés rencontrées et acquérir ainsi de nouveaux outils et ressources afin de se renforcer dans leur fonction.  \nLe dispositif/méthodologie :   \nAu cours des 4 demi-journées d’intervision\, il s’agit de travailler à chaque séance autour d’une situation présentée par un.e participant.e\, et/ou d’une thématique que le groupe souhaite aborder. Ces questionnements et thématiques seront analysés et élaborés sur base d’outils issus de l’intelligence collective (exercices collectifs\, mises en situation\, jeux de rôle\, etc.). Des éclairages théoriques sur base de supports vidéo et/ou documents pourront alimenter ce travail.  \nLes dates :   \nMercredi 24 septembre 2025 de 9h30 à 12h30\nMercredi 15 octobre 2025 de 9h30 à 12h30\nMercredi 12 novembre 2025 de 9h30 à 12h30\nMercredi 10 décembre 2025 de 9h30 à 12h30  \nLe lieu : ABBET - 13-15 Square Sainctelette à 1000 Bruxelles – étage 9 (près de la station métro IJzer) \nLes supervisions sont animées par :  \nFormatrices : Anne-Catherine Ecker et Coline Roulin\, conseillères en prévention aspects psychosociaux  \n  \nInscriptions via FormAction
URL:https://abbet.be/nl/event/test-premiere-supervision-dequipe/
LOCATION:Abbet\, Square Sainctelette 13-15\, Bruxelles\, Bruxelles Capitale\, 1000\, Belgique
ATTACH;FMTTYPE=image/png:https://abbet.be/wp-content/uploads/2024/12/Affiche_situation_50_personne-confiance-e1756300199721.png
ORGANIZER;CN="Abbet ASBL":MAILTO:info@abbet.be
END:VEVENT
BEGIN:VEVENT
DTSTART;TZID=Europe/Brussels:20250925T093000
DTEND;TZID=Europe/Brussels:20250925T120000
DTSTAMP:20260421T043355
CREATED:20250423T084224Z
LAST-MODIFIED:20250828T122106Z
UID:13955-1758792600-1758801600@abbet.be
SUMMARY:Petit-déjeuner Bien-Être : « Adapter le travail à l’humain » : quelles pratiques ?
DESCRIPTION:Nouvelle date : la rencontre Bien-être est reportée au 25 septembre 2025 en raison de la manifestation du secteur non marchand prévue ce jeudi 22 mai. \nL’adaptation du travail à l’humain constitue un des principes majeurs qui fondent les obligations de prévention et de protection de la santé au travail. Ce principe soutient l’idée que le milieu de travail doit pouvoir\, dans une certaine mesure du moins\, s’adapter aux capacités et aux besoins spécifiques liés à l’état de santé d’un travailleur·euse. \nDes aménagements bien pensés des postes et/ou du lieu de travail sont donc parfois nécessaires en vue de limiter l’impact du travail sur la santé des travailleur·euses  (protection de la maternité\, aide à l’intégration\, maintien à l’emploi ou réintégration d’un·e collègue ayant des besoins spécifiques\, etc..). \nAprès une introduction générale sur le cadre législatif\, les obligations de l’employeur et le rôle des différents acteur·ices de la prévention\, le docteur Zahra Pourhashemi\, conseillère en prévention-médecin du travail\, partagera son expérience de terrain dans l’accompagnement des adaptations de postes et retour au travail. \nUn débat suivra ces interventions\, en présence de conseillères en prévention de l’ABBET. \nCette rencontre est prévue le 25 septembre 2025 de 10h à 12h dans nos locaux sis Square Sainctelette 13-15\, à Bruxelles. \nAccueil et petit déjeuner à partir de 9h30 !    \nLa rencontre bien-être sera suivie d’une permanence jusque 13h où vous pourrez rencontrer des conseillères en prévention de l’ABBET pour toute question\, demande ou conseils en lien avec la politique de prévention et de bien-être au travail. \nLa participation à l’événement est gratuite\, mais il vous est demandé de vous inscrire via le lien ci-dessous. \nLes inscriptions sont clôturées.
URL:https://abbet.be/nl/event/petit-dejeuner-bien-etre-adapter-le-travail-a-lhumain-quelles-pratiques/
ATTACH;FMTTYPE=image/jpeg:https://abbet.be/wp-content/uploads/2025/08/Design-sans-titre-4.jpg
END:VEVENT
END:VCALENDAR