BEGIN:VCALENDAR
VERSION:2.0
PRODID:-//Abbet - ECPv6.15.20//NONSGML v1.0//EN
CALSCALE:GREGORIAN
METHOD:PUBLISH
X-WR-CALNAME:Abbet
X-ORIGINAL-URL:https://abbet.be/nl
X-WR-CALDESC:Events voor Abbet
REFRESH-INTERVAL;VALUE=DURATION:PT1H
X-Robots-Tag:noindex
X-PUBLISHED-TTL:PT1H
BEGIN:VTIMEZONE
TZID:Europe/Brussels
BEGIN:DAYLIGHT
TZOFFSETFROM:+0100
TZOFFSETTO:+0200
TZNAME:CEST
DTSTART:20240331T010000
END:DAYLIGHT
BEGIN:STANDARD
TZOFFSETFROM:+0200
TZOFFSETTO:+0100
TZNAME:CET
DTSTART:20241027T010000
END:STANDARD
BEGIN:DAYLIGHT
TZOFFSETFROM:+0100
TZOFFSETTO:+0200
TZNAME:CEST
DTSTART:20250330T010000
END:DAYLIGHT
BEGIN:STANDARD
TZOFFSETFROM:+0200
TZOFFSETTO:+0100
TZNAME:CET
DTSTART:20251026T010000
END:STANDARD
BEGIN:DAYLIGHT
TZOFFSETFROM:+0100
TZOFFSETTO:+0200
TZNAME:CEST
DTSTART:20260329T010000
END:DAYLIGHT
BEGIN:STANDARD
TZOFFSETFROM:+0200
TZOFFSETTO:+0100
TZNAME:CET
DTSTART:20261025T010000
END:STANDARD
END:VTIMEZONE
BEGIN:VEVENT
DTSTART;TZID=Europe/Brussels:20250410T093000
DTEND;TZID=Europe/Brussels:20250410T123000
DTSTAMP:20260421T133104
CREATED:20240111T105616Z
LAST-MODIFIED:20250221T121212Z
UID:12350-1744277400-1744288200@abbet.be
SUMMARY:Formation « Je débute en tant que conseiller·ère en prévention »
DESCRIPTION:Lors de ces trois sessions de supervision\, l’objectif est de renforcer les conseiller·ères en prévention qui débutent dans leur fonction par l’apport de connaissances sur le cadre légal\, l’échange d’outils et de pratiques avec les autres participant·es.   \n\nComment se lancer ? \nPar quoi commencer ?\nQuels sont les obligations\, les points d’attention\, les pièges à éviter ? \nQuels sont les outils qui peuvent m’aider ? \nOu trouver l’information utile ?\n \n\nDates :  \n10/04/2025\n15/05/2025\n12/06/2025 \nLieu : ABBET\, 13-15 Square Sainctelette\, 1000 Bruxelles – 9e étage (métro Yser) \nPrix : gratuit \n  \n L’atelier est complet. 
URL:https://abbet.be/nl/event/formation-je-debute-en-tant-que-conseillers-en-prevention/
CATEGORIES:Agenda,Agenda NWL
ATTACH;FMTTYPE=image/png:https://abbet.be/wp-content/uploads/2024/01/Je-debute-en-tant-que-CP.png
END:VEVENT
END:VCALENDAR