BEGIN:VCALENDAR
VERSION:2.0
PRODID:-//Abbet - ECPv6.15.20//NONSGML v1.0//EN
CALSCALE:GREGORIAN
METHOD:PUBLISH
X-WR-CALNAME:Abbet
X-ORIGINAL-URL:https://abbet.be/nl
X-WR-CALDESC:Events voor Abbet
REFRESH-INTERVAL;VALUE=DURATION:PT1H
X-Robots-Tag:noindex
X-PUBLISHED-TTL:PT1H
BEGIN:VTIMEZONE
TZID:Europe/Brussels
BEGIN:DAYLIGHT
TZOFFSETFROM:+0100
TZOFFSETTO:+0200
TZNAME:CEST
DTSTART:20230326T010000
END:DAYLIGHT
BEGIN:STANDARD
TZOFFSETFROM:+0200
TZOFFSETTO:+0100
TZNAME:CET
DTSTART:20231029T010000
END:STANDARD
BEGIN:DAYLIGHT
TZOFFSETFROM:+0100
TZOFFSETTO:+0200
TZNAME:CEST
DTSTART:20240331T010000
END:DAYLIGHT
BEGIN:STANDARD
TZOFFSETFROM:+0200
TZOFFSETTO:+0100
TZNAME:CET
DTSTART:20241027T010000
END:STANDARD
BEGIN:DAYLIGHT
TZOFFSETFROM:+0100
TZOFFSETTO:+0200
TZNAME:CEST
DTSTART:20250330T010000
END:DAYLIGHT
BEGIN:STANDARD
TZOFFSETFROM:+0200
TZOFFSETTO:+0100
TZNAME:CET
DTSTART:20251026T010000
END:STANDARD
END:VTIMEZONE
BEGIN:VEVENT
DTSTART;TZID=Europe/Brussels:20240208T093000
DTEND;TZID=Europe/Brussels:20240208T123000
DTSTAMP:20260422T095442
CREATED:20231207T125328Z
LAST-MODIFIED:20240131T123843Z
UID:12290-1707384600-1707395400@abbet.be
SUMMARY:Atelier : Comment remplir le rapport du SIPPT ?
DESCRIPTION:Atelier à destination des conseiller.ère.s en prévention.  \nBut : \nSoutenir les conseiller.ère.s en prévention pour leur permettre de remplir le rapport annuel du service interne de prévention et de protection au travail. Il s’agit d’une obligation légale\, et ce rapport doit être achevé pour le 31/03/2024.\nPour plus d’informations concernant ce rapport annuel : https://emploi.belgique.be/fr/rapport-annuel-du-service-interne-de-prevention-et-de-protection-au-travail-exercice-2021  \nA la fin de l’atelier\, les participant.e.s seront suffisamment outillé.e.s pour remplir de manière autonome leur rapport du SIPPT.  \nLes participant.e.s qui auront pu amener\, le jour de l’atelier\, les informations préparatoires repartiront avec leur rapport partiellement ou entièrement complété.  \nDurée : 3 heures  \nLe lieu : ABBET – 13-15 Square Sainctelette à 1000 Bruxelles – étage 9 (près de la station métro IJzer) \nCET ATELIER EST COMPLET. \nUn autre atelier SIPPT est prévu le 19 février.
URL:https://abbet.be/nl/event/atelier-comment-remplir-le-rapport-du-sippt-2/
ATTACH;FMTTYPE=image/jpeg:https://abbet.be/wp-content/uploads/2024/01/gabrielle-henderson-HJckKnwCXxQ-unsplash-e1706704032947.jpg
END:VEVENT
BEGIN:VEVENT
DTSTART;TZID=Europe/Brussels:20240219T133000
DTEND;TZID=Europe/Brussels:20240219T163000
DTSTAMP:20260422T095442
CREATED:20240131T112958Z
LAST-MODIFIED:20240131T130340Z
UID:12556-1708349400-1708360200@abbet.be
SUMMARY:Atelier : Comment remplir le rapport du SIPPT ?
DESCRIPTION:Atelier à destination des conseiller.ère.s en prévention.  \nBut : \nSoutenir les conseiller.ère.s en prévention pour leur permettre de remplir le rapport annuel du service interne de prévention et de protection au travail. Il s’agit d’une obligation légale\, et ce rapport doit être achevé pour le 31/03/2024.\nPour plus d’informations concernant ce rapport annuel : https://emploi.belgique.be/fr/rapport-annuel-du-service-interne-de-prevention-et-de-protection-au-travail-exercice-2021  \nA la fin de l’atelier\, les participant.e.s seront suffisamment outillé.e.s pour remplir de manière autonome leur rapport du SIPPT.  \nLes participant.e.s qui auront pu amener\, le jour de l’atelier\, les informations préparatoires repartiront avec leur rapport partiellement ou entièrement complété.  \nDurée : 3 heures  \nLe lieu : ABBET – 13-15 Square Sainctelette à 1000 Bruxelles – étage 9 (près de la station métro Yzer) \nSchakel JavaScript in je browser in om dit formulier in te vullen.Schakel JavaScript in je browser in om dit formulier in te vullen.Nom *VoornaamAchternaamE-mail *Téléphone *Adresse *Adresregel 1StadStaat / Provincie / RegioPostcode-- Selecteer country --AfghanistanAland eilandenAlbaniëAlgerijeAmerikaans SamoaAmerikaanse MaagdeneilandenAndorraAngolaAnguillaAntarcticaAntigua en BarbudaArgentiniëArmeniëArubaAustraliëAzerbaijanBahamasBahrainBangladeshBarbadosBelgiëBelizeBeninBermudaBhutanBolivia (Plurinationale staat)Bonaire\, Sint Eustatius en SabaBosnia and HerzegovinaBotswanaBouveteilandBraziliëBrits Indische OceaanterritoriumBritse MaagdeneilandenBrunei DarussalamBulgarijeBurkina FasoBurundiCabo VerdeCambodiaCameroonCanadaCentraal Afrikaanse RepubliekChadChiliChinaCocos (Keeling) eilandenColombiaComorenCongoCongo\, de Democratische RepubliekCookeilandenCosta RicaCubaCuraçaoCyprusDenemarkenDjiboutiDominicaDominicaanse RepubliekDuitslandEcuadorEgypteEl SalvadorEquatoriaal-GuineaEritreaEstlandEswatini (Koninkrijk van)EthiopiëFaeroër eilandenFalklandeilanden (Malvinas)FijiFinlandFrankrijkFrans-GuyanaFrans-PolynesiëFranse zuidelijke gebiedenGabonGambiaGeorgiëGhanaGibraltarGrenadaGriekenlandGroenlandGuadeloupeGuamGuatemalaGuernseyGuineaGuinea-BissauGuyanaHaïtiHeard en McDonaldeilandenHondurasHong KongHongarijeIerland (Republiek van)IjslandIndiaIndonesiëIrakIran (Islamitische Republiek van)Isle of ManIsraelItaliëIvoorkustJamaicaJapanJerseyJordaniëKaaimaneilandenKazakhstanKeniaKersteilandKiribatiKleine afgelegen eilanden van de Verenigde StatenKosovoKroatiëKuwaitKyrgyzstanLaos (Democratische Volksrepubliek)LesothoLetlandLibanonLiberiaLibiëLiechtensteinLithouwenLuxemburgMacaoMadagascarMalawiMalaysiaMaledivenMaliMaltaMarokkoMarshalleilandenMartiniqueMauritaniaMauritiusMayotteMexicoMicronesië\, Federale StatenMoldavië\, RepubliekMonacoMongoliëMontenegroMontserratMozambiqueMyanmarNamibiaNauruNederlandNepalNicaraguaNieuw CaledoniëNieuw-ZeelandNigerNigeriaNiueNoord Macedonië (Republiek van)Noord-Korea (Democratische Volksrepubliek)Noordelijke Marianen eilandenNoorwegenNorfolk eilandOekraineOmanOostenrijkPakistanPalauPalestinaPanamaPapua New GuineaParaguayPeruPhilippinesPitcairnPolenPortugalPuerto RicoQatarRoemeniëRussische FederatieRwandaRéunionSaint Kitts en NevisSaint Martin (Frans)Saint Vincent en de GrenadinesSaint-Pierre en MiquelonSamoaSan MarinoSao Tomé en PrincipeSaudi ArabiëSenegalServiëSeychellesSierra LeoneSingaporeSint BarthelemySint LuciaSint Maarten (Nederlands deel)Sint-Helena\, Ascension en Tristan da CunhaSloveniëSlowakijeSoedanSolomon eilandenSomaliaSouth SudanSpanjeSri LankaSurinameSvalbard en Jan MayenSyrische Arabische RepubliekTadzjikistanTaiwan\, Republiek ChinaTanzania\, Verenigde RepubliekThailandTimor-LesteTogoTokelauTongaTrinidad en TobagoTsjechiëTunesiëTurkmenistanTurks- en CaicoseilandenTuvaluTürkiyeUgandaUnited Arab EmiratesUruguayUzbekistanVanuatuVaticaanstadVenezuela (Bolivariaanse Republiek)Verenigd Koninkrijk van Groot-Brittannië en Noord-IerlandVerenigde Staten van AmerikaVietnamWallis en FutunaWestelijke SaharaWit-RuslandYemenZambiaZimbabweZuid AfrikaZuid-Georgia en de Zuidelijke SandwicheilandenZuid-Korea (Republiek van)ZwedenZwitserlandLandInstitution *Fonction dans l’institution *Langue *Disposez-vous d’un agrément ? *COCOFCOCOMAutreSi autre\, veuillez spécifier quel agrément *Envoyer
URL:https://abbet.be/nl/event/atelier-comment-remplir-le-rapport-du-sippt-3/
LOCATION:Abbet\, Square Sainctelette 13-15\, Bruxelles\, Bruxelles Capitale\, 1000\, Belgique
CATEGORIES:Agenda
ATTACH;FMTTYPE=image/jpeg:https://abbet.be/wp-content/uploads/2024/01/gabrielle-henderson-HJckKnwCXxQ-unsplash-e1706704032947.jpg
END:VEVENT
END:VCALENDAR