BEGIN:VCALENDAR
VERSION:2.0
PRODID:-//Abbet - ECPv6.15.20//NONSGML v1.0//EN
CALSCALE:GREGORIAN
METHOD:PUBLISH
X-WR-CALNAME:Abbet
X-ORIGINAL-URL:https://abbet.be/nl
X-WR-CALDESC:Events voor Abbet
REFRESH-INTERVAL;VALUE=DURATION:PT1H
X-Robots-Tag:noindex
X-PUBLISHED-TTL:PT1H
BEGIN:VTIMEZONE
TZID:Europe/Brussels
BEGIN:DAYLIGHT
TZOFFSETFROM:+0100
TZOFFSETTO:+0200
TZNAME:CEST
DTSTART:20230326T010000
END:DAYLIGHT
BEGIN:STANDARD
TZOFFSETFROM:+0200
TZOFFSETTO:+0100
TZNAME:CET
DTSTART:20231029T010000
END:STANDARD
BEGIN:DAYLIGHT
TZOFFSETFROM:+0100
TZOFFSETTO:+0200
TZNAME:CEST
DTSTART:20240331T010000
END:DAYLIGHT
BEGIN:STANDARD
TZOFFSETFROM:+0200
TZOFFSETTO:+0100
TZNAME:CET
DTSTART:20241027T010000
END:STANDARD
BEGIN:DAYLIGHT
TZOFFSETFROM:+0100
TZOFFSETTO:+0200
TZNAME:CEST
DTSTART:20250330T010000
END:DAYLIGHT
BEGIN:STANDARD
TZOFFSETFROM:+0200
TZOFFSETTO:+0100
TZNAME:CET
DTSTART:20251026T010000
END:STANDARD
END:VTIMEZONE
BEGIN:VEVENT
DTSTART;TZID=Europe/Brussels:20240124T093000
DTEND;TZID=Europe/Brussels:20240124T123000
DTSTAMP:20260422T123814
CREATED:20230919T100615Z
LAST-MODIFIED:20231214T082519Z
UID:12123-1706088600-1706099400@abbet.be
SUMMARY:Complet ! - Supervision pour directions et coordinations d’équipe :  7 séances en 2024
DESCRIPTION:Complet !  \nL’ABBET organise une nouvelle session de supervision pour les directions/coordinations d’équipe des secteurs Cocof/Cocom. Les séances se dérouleront entre janvier et décembre 2024. \nL’objectif : Prendre un temps de recul\, questionner et échanger avec des pairs sur sa pratique et les difficultés rencontrées\, clarifier son rôle en tant que responsable\, acquérir et mobiliser de nouveaux outils et ressources pour se renforcer dans sa fonction. \nLe dispositif : Le groupe est constitué de 12 personnes maximum. A chaque séance nous travaillons autour d’une situation présentée par un.e participant.e\, et/ou d’une thématique que le groupe souhaite aborder (par exemple les prises de décision\, la dynamique d’équipe\, la gestion des conflits\, les réunions\, …). \nAfin de favoriser la construction d’une dynamique de groupe basée sur la confiance et l’engagement de chacun.e dans le processus\, la présence à l’ensemble des séances est requise. \nLes dates : Les séances auront lieu les mercredis de 9h30 à 12h30\, de janvier à décembre 2024 : \n24 janvier\, 20 mars\, 17 avril\, 29 mai\, 18 septembre\, 6 novembre et 18 décembre \nLe lieu : ABBET – 13-15 Square Sainctelette à 1000 Bruxelles – étage 9 (près de la station métro IJzer) \nLes conditions d’inscription : La supervision s’adresse aux directions/coordinations disposant d’une pratique de gestion d’équipe en cours. Elle est gratuite et ouverte en priorité aux participant.e.s travaillant dans les associations relevant des secteurs de l’ABBET (agrément Cocof et/ou Cocom). \nLes supervisions sont animées par : \n– Rachel Carton\, coordinatrice de l’ABBET et conseillère en prévention spécialisée aspects psychosociaux ; \n– Anne-Catherine Ecker\, conseillère en prévention aspects psychosociaux\, superviseuse formée en approche systémique. \nN’hésitez pas à nous contacter pour plus d’informations. \n  \nL’inscription se fait via le lien : \nSchakel JavaScript in je browser in om dit formulier in te vullen.Schakel JavaScript in je browser in om dit formulier in te vullen.Nom *VoornaamAchternaamE-mail *Ligne de texteTéléphone *AdresseAdresregel 1Adresregel 2Stad-- Selecteer state --AlabamaAlaskaArizonaArkansasCaliforniëColoradoConnecticutDelawareDistrict of ColumbiaFloridaGeorgiaHawaiiIdahoIllinoisIndianaIowaKansasKentuckyLouisianaMaineMarylandMassachusettsMichiganMinnesotaMississippiMissouriMontanaNebraskaNevadaNew HampshireNew JerseyNew MexicoNew YorkNorth CarolinaNoord-DakotaOhioOklahomaOregonPennsylvaniaRhode IslandSouth CarolinaSouth DakotaTennesseeTexasUtahVermontVirginiaWashingtonWest VirginiaWisconsinWyomingProvinciePostcodeAdresse *Adresregel 1StadStaat / Provincie / RegioPostcode-- Selecteer country --AfghanistanAland eilandenAlbaniëAlgerijeAmerikaans SamoaAmerikaanse MaagdeneilandenAndorraAngolaAnguillaAntarcticaAntigua en BarbudaArgentiniëArmeniëArubaAustraliëAzerbaijanBahamasBahrainBangladeshBarbadosBelgiëBelizeBeninBermudaBhutanBolivia (Plurinationale staat)Bonaire\, Sint Eustatius en SabaBosnia and HerzegovinaBotswanaBouveteilandBraziliëBrits Indische OceaanterritoriumBritse MaagdeneilandenBrunei DarussalamBulgarijeBurkina FasoBurundiCabo VerdeCambodiaCameroonCanadaCentraal Afrikaanse RepubliekChadChiliChinaCocos (Keeling) eilandenColombiaComorenCongoCongo\, de Democratische RepubliekCookeilandenCosta RicaCubaCuraçaoCyprusDenemarkenDjiboutiDominicaDominicaanse RepubliekDuitslandEcuadorEgypteEl SalvadorEquatoriaal-GuineaEritreaEstlandEswatini (Koninkrijk van)EthiopiëFaeroër eilandenFalklandeilanden (Malvinas)FijiFinlandFrankrijkFrans-GuyanaFrans-PolynesiëFranse zuidelijke gebiedenGabonGambiaGeorgiëGhanaGibraltarGrenadaGriekenlandGroenlandGuadeloupeGuamGuatemalaGuernseyGuineaGuinea-BissauGuyanaHaïtiHeard en McDonaldeilandenHondurasHong KongHongarijeIerland (Republiek van)IjslandIndiaIndonesiëIrakIran (Islamitische Republiek van)Isle of ManIsraelItaliëIvoorkustJamaicaJapanJerseyJordaniëKaaimaneilandenKazakhstanKeniaKersteilandKiribatiKleine afgelegen eilanden van de Verenigde StatenKosovoKroatiëKuwaitKyrgyzstanLaos (Democratische Volksrepubliek)LesothoLetlandLibanonLiberiaLibiëLiechtensteinLithouwenLuxemburgMacaoMadagascarMalawiMalaysiaMaledivenMaliMaltaMarokkoMarshalleilandenMartiniqueMauritaniaMauritiusMayotteMexicoMicronesië\, Federale StatenMoldavië\, RepubliekMonacoMongoliëMontenegroMontserratMozambiqueMyanmarNamibiaNauruNederlandNepalNicaraguaNieuw CaledoniëNieuw-ZeelandNigerNigeriaNiueNoord Macedonië (Republiek van)Noord-Korea (Democratische Volksrepubliek)Noordelijke Marianen eilandenNoorwegenNorfolk eilandOekraineOmanOostenrijkPakistanPalauPalestinaPanamaPapua New GuineaParaguayPeruPhilippinesPitcairnPolenPortugalPuerto RicoQatarRoemeniëRussische FederatieRwandaRéunionSaint Kitts en NevisSaint Martin (Frans)Saint Vincent en de GrenadinesSaint-Pierre en MiquelonSamoaSan MarinoSao Tomé en PrincipeSaudi ArabiëSenegalServiëSeychellesSierra LeoneSingaporeSint BarthelemySint LuciaSint Maarten (Nederlands deel)Sint-Helena\, Ascension en Tristan da CunhaSloveniëSlowakijeSoedanSolomon eilandenSomaliaSouth SudanSpanjeSri LankaSurinameSvalbard en Jan MayenSyrische Arabische RepubliekTadzjikistanTaiwan\, Republiek ChinaTanzania\, Verenigde RepubliekThailandTimor-LesteTogoTokelauTongaTrinidad en TobagoTsjechiëTunesiëTurkmenistanTurks- en CaicoseilandenTuvaluTürkiyeUgandaUnited Arab EmiratesUruguayUzbekistanVanuatuVaticaanstadVenezuela (Bolivariaanse Republiek)Verenigd Koninkrijk van Groot-Brittannië en Noord-IerlandVerenigde Staten van AmerikaVietnamWallis en FutunaWestelijke SaharaWit-RuslandYemenZambiaZimbabweZuid AfrikaZuid-Georgia en de Zuidelijke SandwicheilandenZuid-Korea (Republiek van)ZwedenZwitserlandLandInstitution *Fonction dans l’institution *Langue *Disposez-vous d’un agrément ? *COCOFCOCOMAutreSi autre\, veuillez spécifier quel agrément *Envoyer  \n 
URL:https://abbet.be/nl/event/supervision-pour-directions-coordinations-dequipe-2024/
CATEGORIES:Agenda,Agenda NWL
ATTACH;FMTTYPE=image/png:https://abbet.be/wp-content/uploads/2022/07/Intervisions@2x.png
END:VEVENT
END:VCALENDAR