BEGIN:VCALENDAR
VERSION:2.0
PRODID:-//Abbet - ECPv6.15.20//NONSGML v1.0//EN
CALSCALE:GREGORIAN
METHOD:PUBLISH
X-ORIGINAL-URL:https://abbet.be
X-WR-CALDESC:Évènements pour Abbet
REFRESH-INTERVAL;VALUE=DURATION:PT1H
X-Robots-Tag:noindex
X-PUBLISHED-TTL:PT1H
BEGIN:VTIMEZONE
TZID:Europe/Brussels
BEGIN:DAYLIGHT
TZOFFSETFROM:+0100
TZOFFSETTO:+0200
TZNAME:CEST
DTSTART:20230326T010000
END:DAYLIGHT
BEGIN:STANDARD
TZOFFSETFROM:+0200
TZOFFSETTO:+0100
TZNAME:CET
DTSTART:20231029T010000
END:STANDARD
BEGIN:DAYLIGHT
TZOFFSETFROM:+0100
TZOFFSETTO:+0200
TZNAME:CEST
DTSTART:20240331T010000
END:DAYLIGHT
BEGIN:STANDARD
TZOFFSETFROM:+0200
TZOFFSETTO:+0100
TZNAME:CET
DTSTART:20241027T010000
END:STANDARD
BEGIN:DAYLIGHT
TZOFFSETFROM:+0100
TZOFFSETTO:+0200
TZNAME:CEST
DTSTART:20250330T010000
END:DAYLIGHT
BEGIN:STANDARD
TZOFFSETFROM:+0200
TZOFFSETTO:+0100
TZNAME:CET
DTSTART:20251026T010000
END:STANDARD
END:VTIMEZONE
BEGIN:VEVENT
DTSTART;TZID=Europe/Brussels:20240704T120000
DTEND;TZID=Europe/Brussels:20240704T140000
DTSTAMP:20260421T235628
CREATED:20240111T103929Z
LAST-MODIFIED:20240617T125506Z
UID:12346-1720094400-1720101600@abbet.be
SUMMARY:Rencontre Bien-Être : Aménager un poste de travail en prévention des TMS
DESCRIPTION:L’aménagement des postes de travail est un des facteurs clés pour diminuer l’apparition des troubles musculosquelettiques (TMS). Le monde du travail y est de plus en plus attentif. Pourtant\, force est de constater que le nombre de travailleur·euses s’absentant pour divers maux en lien avec les TMS est en augmentation.  \n\nComment prévenir ou réduire l’apparition des TMS ? \nQuels sont les facteurs qui augmentent le risque de TMS ?\nQue dit le Code du bien-être au travail à ce sujet ? \n\n  \nCette rencontre a pour objectif d’introduire à la notion de TMS et de familiariser les participant·es avec les principes théoriques et pratiques de l’aménagement ergonomique d’un poste de travail. Nous verrons également les changements récents au niveau de la législation (nouvel Arrêté Royal du 15 mai 2024) et les principaux points d’attention d’un aménagement de poste.  \nUn moment d’échange avec la salle est prévu dans la suite des interventions.  \nAvec la participation d’Alain Piette\, ergonome européen\, DG Humanisation du travail\, SPF emploi et des conseillères en prévention de l’ABBET.\n \n  \nLa Rencontre Bien-Être sera suivie d’un atelier visant à s’approprier en pratique les principes de l’aménagement d’un poste de travail sur écran. L’inscription se fait séparément pour chaque événement.   \n  \nDurée : 2 heures  \nLieu : ABBET\, 13-15 Square Sainctelette\, 1000 Bruxelles – 9e étage (métro Yser) \nPrix : gratuit \n  \nVeuillez activer JavaScript dans votre navigateur pour remplir ce formulaire.Veuillez activer JavaScript dans votre navigateur pour remplir ce formulaire.Nom *PrénomNomE-mail *Téléphone *Adresse *Adresse ligne 1VilleÉtat / Province / RégionCode postal--- Sélectionner : country ---AfghanistanAfrique du SudAlbanieAlgérieAllemagneAndorreAngolaAnguillaAntarctiqueAntigua-et-BarbudaArabie SaouditeArgentineArménieArubaAustralieAutricheAzerbaïdjanBahamasBahreïnBangladeshBarbadeBelgiqueBelizeBermudesBhoutanBiélorussieBolivie (État plurinational de)Bonaire\, Saint Eustatius and SabaBosnie-HerzégovineBotswanaBrésilBulgarieBurkina FasoBurundiBéninCambodgeCamerounCanadaCap-VertChiliChineChypreColombieComoresCongoCongo (République démocratique du)Corée (République de)Corée (République populaire démocratique de)Costa RicaCroatieCubaCuraçaoCôte d’IvoireDanemarkDjiboutiDominiqueEspagneEstonieEswatini (Royaume de)FidjiFinlandeFranceFédération RusseGabonGambieGhanaGibraltarGrenadeGroenlandGrèceGuadeloupeGuamGuatemalaGuerneseyGuinéeGuinée équatorialeGuinée-BissauGuyaneGuyaneGéorgieGéorgie du Sud et îles Sandwich du SudHaïtiHondurasHong KongHongrieIndeIndonésieIrakIran (République islamique d’)Irlande (République d’)IslandeIsraëlItalieJamaïqueJaponJerseyJordanieKazakhstanKenyaKirghizistanKiribatiKosovoKoweïtLa RéunionLesothoLettonieLibanLiberiaLibyeLiechtensteinLituanieLuxembourgMacaoMacédoine du Nord (République de)MadagascarMalaisieMalawiMaldivesMaliMalteMarocMartiniqueMauritanieMayotteMexiqueMicronésie (États fédérés de)Moldova (République de)MonacoMongolieMontserratMonténégroMozambiqueMyanmarNamibieNauruNegara Brunei DarussalamNicaraguaNigerNigériaNiueNorvègeNouvelle-CalédonieNouvelle-ZélandeNépalOmanOugandaOuzbékistanPakistanPalauPalestine (État de)PanamaPapouasie-Nouvelle-GuinéeParaguayPays-BasPhilippinesPolognePolynésie françaisePorto RicoPortugalPérouQatarRoumanieRoyaume-Uni de Grande-Bretagne et d’Irlande du NordRwandaRépublique arabe syrienneRépublique centrafricaineRépublique dominicaineRépublique démocratique populaire du LaosRépublique tchèqueSahara occidentalSaint BarthélemySaint Pierre et MiquelonSaint-Christophe-et-NevisSaint-MarinSaint-Martin (partie française)Saint-Vincent-et-les GrenadinesSainte-Hélène\, Ascension et Tristan da CunhaSainte-LucieSalvadorSamoaSamoa américainesSao Tomé et PrincipeSerbieSeychellesSierra LeoneSingapourSint Maarten (partie hollandaise)SlovaquieSlovénieSomalieSoudanSoudan du SudSri LankaSuisseSurinamSuèdeSénégalTadjikistanTaiwan\, République de ChineTanzanie (République-Unie de)TchadTerres Australes FrançaisesTerritoire britannique de l’océan IndienThaïlandeTimor orientalTogoTokelauTongaTrinité et TobagoTunisieTurkménistanTurquieTuvaluUkraineUruguayVanuatuVenezuela (République bolivarienne du)VietnamWallis et FutunaYémenZambieZimbabweÉgypteÉmirats arabes unisÉquateurÉrythréeÉtat de la cité du VaticanÉtats-Unis d’AmériqueÉthiopieÎle BouvetÎle ChristmasÎle MauriceÎle NorfolkÎle de ManÎles CaïmansÎles Cocos (Keeling)Îles CookÎles Falkland (Malvinas)Îles FéroéÎles Heard et McDonaldÎles Mariannes du NordÎles MarshallÎles PitcairnÎles SalomonÎles Turques et CaïquesÎles Vierges (Américaines)Îles Vierges (Britanniques)Îles de Svalbard et Jan MayenÎles mineures américainesÎles ÅlandPaysInstitution *Fonction dans l’institution *Langue *Disposez-vous d’un agrément ? *COCOFCOCOMAutreSi autre\, veuillez spécifier quel agrément *Envoyer
URL:https://abbet.be/event/rencontre-bien-etre-ergonomie-de-bureau/
LOCATION:Abbet\, Square Sainctelette 13-15\, Bruxelles\, Bruxelles Capitale\, 1000\, Belgique
CATEGORIES:Agenda,Agenda NWL
ATTACH;FMTTYPE=image/png:https://abbet.be/wp-content/uploads/2024/01/ergonomie-bureau-removebg-preview.png
ORGANIZER;CN="Abbet ASBL":MAILTO:info@abbet.be
END:VEVENT
BEGIN:VEVENT
DTSTART;TZID=Europe/Brussels:20240704T140000
DTEND;TZID=Europe/Brussels:20240704T160000
DTSTAMP:20260421T235628
CREATED:20231207T125603Z
LAST-MODIFIED:20240522T093523Z
UID:12295-1720101600-1720108800@abbet.be
SUMMARY:Atelier : Ergonomie de bureau\, adapter le poste en pratique
DESCRIPTION:Atelier à destination de toute personne intéressée (travailleur·euses\, CP\, etc.)  \nL’objectif de cet atelier est de mettre en pratique ce qui a été vu de manière théorique lors de la Rencontre Bien-Être en abordant plus spécifiquement l’aménagement d’un poste de travail sur écran.   \nLes participant·e·s s’exerceront sur la base de différentes mises en situation.  \nL’inscription se fait séparément pour chaque événement (Rencontre Bien-Être et atelier).  \n  \nDurée : 2 heures  \nLieu : ABBET\, 13-15 Square Sainctelette\, 1000 Bruxelles – 9e étage (métro Yser) \nPrix : gratuit \n  \nVeuillez activer JavaScript dans votre navigateur pour remplir ce formulaire.Veuillez activer JavaScript dans votre navigateur pour remplir ce formulaire.Nom *PrénomNomE-mail *Institution *Fonction *Adresse *Adresse ligne 1VilleÉtat / Province / RégionCode postal--- Sélectionner : country ---AfghanistanAfrique du SudAlbanieAlgérieAllemagneAndorreAngolaAnguillaAntarctiqueAntigua-et-BarbudaArabie SaouditeArgentineArménieArubaAustralieAutricheAzerbaïdjanBahamasBahreïnBangladeshBarbadeBelgiqueBelizeBermudesBhoutanBiélorussieBolivie (État plurinational de)Bonaire\, Saint Eustatius and SabaBosnie-HerzégovineBotswanaBrésilBulgarieBurkina FasoBurundiBéninCambodgeCamerounCanadaCap-VertChiliChineChypreColombieComoresCongoCongo (République démocratique du)Corée (République de)Corée (République populaire démocratique de)Costa RicaCroatieCubaCuraçaoCôte d’IvoireDanemarkDjiboutiDominiqueEspagneEstonieEswatini (Royaume de)FidjiFinlandeFranceFédération RusseGabonGambieGhanaGibraltarGrenadeGroenlandGrèceGuadeloupeGuamGuatemalaGuerneseyGuinéeGuinée équatorialeGuinée-BissauGuyaneGuyaneGéorgieGéorgie du Sud et îles Sandwich du SudHaïtiHondurasHong KongHongrieIndeIndonésieIrakIran (République islamique d’)Irlande (République d’)IslandeIsraëlItalieJamaïqueJaponJerseyJordanieKazakhstanKenyaKirghizistanKiribatiKosovoKoweïtLa RéunionLesothoLettonieLibanLiberiaLibyeLiechtensteinLituanieLuxembourgMacaoMacédoine du Nord (République de)MadagascarMalaisieMalawiMaldivesMaliMalteMarocMartiniqueMauritanieMayotteMexiqueMicronésie (États fédérés de)Moldova (République de)MonacoMongolieMontserratMonténégroMozambiqueMyanmarNamibieNauruNegara Brunei DarussalamNicaraguaNigerNigériaNiueNorvègeNouvelle-CalédonieNouvelle-ZélandeNépalOmanOugandaOuzbékistanPakistanPalauPalestine (État de)PanamaPapouasie-Nouvelle-GuinéeParaguayPays-BasPhilippinesPolognePolynésie françaisePorto RicoPortugalPérouQatarRoumanieRoyaume-Uni de Grande-Bretagne et d’Irlande du NordRwandaRépublique arabe syrienneRépublique centrafricaineRépublique dominicaineRépublique démocratique populaire du LaosRépublique tchèqueSahara occidentalSaint BarthélemySaint Pierre et MiquelonSaint-Christophe-et-NevisSaint-MarinSaint-Martin (partie française)Saint-Vincent-et-les GrenadinesSainte-Hélène\, Ascension et Tristan da CunhaSainte-LucieSalvadorSamoaSamoa américainesSao Tomé et PrincipeSerbieSeychellesSierra LeoneSingapourSint Maarten (partie hollandaise)SlovaquieSlovénieSomalieSoudanSoudan du SudSri LankaSuisseSurinamSuèdeSénégalTadjikistanTaiwan\, République de ChineTanzanie (République-Unie de)TchadTerres Australes FrançaisesTerritoire britannique de l’océan IndienThaïlandeTimor orientalTogoTokelauTongaTrinité et TobagoTunisieTurkménistanTurquieTuvaluUkraineUruguayVanuatuVenezuela (République bolivarienne du)VietnamWallis et FutunaYémenZambieZimbabweÉgypteÉmirats arabes unisÉquateurÉrythréeÉtat de la cité du VaticanÉtats-Unis d’AmériqueÉthiopieÎle BouvetÎle ChristmasÎle MauriceÎle NorfolkÎle de ManÎles CaïmansÎles Cocos (Keeling)Îles CookÎles Falkland (Malvinas)Îles FéroéÎles Heard et McDonaldÎles Mariannes du NordÎles MarshallÎles PitcairnÎles SalomonÎles Turques et CaïquesÎles Vierges (Américaines)Îles Vierges (Britanniques)Îles de Svalbard et Jan MayenÎles mineures américainesÎles ÅlandPaysDisposez-vous d'un agrément COCOM/COCOF ? *COCOMCOCOFAutreSi autre\, précisez : *Envoyer
URL:https://abbet.be/event/atelier-ergonomie-de-bureau-adapter-le-poste-en-pratique/
LOCATION:Bruxelles Capitale
CATEGORIES:Agenda,Agenda NWL
ATTACH;FMTTYPE=image/png:https://abbet.be/wp-content/uploads/2023/12/poste-travail-1.png
END:VEVENT
END:VCALENDAR